BEGIN:VCALENDAR
VERSION:2.0
PRODID:-//Eventin//Event Calendar//EN
CALSCALE:GREGORIAN
METHOD:PUBLISH
BEGIN:VEVENT
UID:16594fad66c356176e51ba9548026f16@mdlstex.fr
SUMMARY:Gala All-In-StEx 2026
DESCRIPTION:Le Gala de fin d'année de Saint-Ex se déroulera le 17 juin au
 x Terrasses du Parc !\nNous vous attendons nombreux!
LOCATION:115 Bd de Stalingrad\, 69100 Villeurbanne
DTSTAMP:20260424T122914Z
DTSTART:20260617T170000Z
DTEND:20260617T230000Z
END:VEVENT
END:VCALENDAR
